BEGIN:VCALENDAR
VERSION:2.0
PRODID:-//Office of Justice Programs//NONSGML Event Calendar//EN
BEGIN:VEVENT
UID:9657afdd-c73d-4ae1-b7b8-19cd25ee9005
DTSTART;TZID=UTC:20220215T190000
SEQUENCE:0
TRANSP:OPAQUE
DTEND;TZID=UTC:20220215T203000
LOCATION:https://www.ojp.gov/events/pregnant-people-and-suds-best-court-pra
 ctices-ensure-both-parent-welfare-and-child-welfare
SUMMARY:Pregnant People and SUD's: Best Court Practices to Ensure Both Pare
 nt Welfare and Child Welfare
CLASS:PUBLIC
DESCRIPTION:Learn more about this event: https://www.ojp.gov/events/pregnan
 t-people-and-suds-best-court-practices-ensure-both-parent-welfare-and-chil
 d-welfare
DTSTAMP:20260424T073923Z
END:VEVENT
END:VCALENDAR