BEGIN:VCALENDAR
VERSION:2.0
PRODID:-//Office of Justice Programs//NONSGML Event Calendar//EN
BEGIN:VEVENT
UID:7631a03f-3b13-4803-919c-bf1925ac0983
DTSTART;TZID=UTC:20220223T190000
SEQUENCE:0
TRANSP:OPAQUE
DTEND;TZID=UTC:20220223T201500
LOCATION:https://www.ojp.gov/events/redefining-trauma-informed-assessments-
 teen-dating-violence-introduction-vip-study
SUMMARY:Redefining Trauma-Informed Assessments for Teen Dating Violence: An
  Introduction to the VIP Study
CLASS:PUBLIC
DESCRIPTION:Learn more about this event: https://www.ojp.gov/events/redefin
 ing-trauma-informed-assessments-teen-dating-violence-introduction-vip-stud
 y
DTSTAMP:20260411T004818Z
END:VEVENT
END:VCALENDAR