BEGIN:VCALENDAR
VERSION:2.0
PRODID:-//Office of Justice Programs//NONSGML Event Calendar//EN
BEGIN:VEVENT
UID:c50df392-b038-4494-b4b6-46ebddf83166
DTSTART;TZID=UTC:20220407T160000
SEQUENCE:0
TRANSP:OPAQUE
DTEND;TZID=UTC:20220407T171500
LOCATION:https://www.ojp.gov/events/toolkit-showcase-how-use-reentry-progra
 m-sustainability-toolkit-plan-your-programs
SUMMARY:Toolkit Showcase: How to Use the Reentry Program Sustainability Too
 lkit to Plan for Your Program's Sustainability
CLASS:PUBLIC
DESCRIPTION:Learn more about this event: https://www.ojp.gov/events/toolkit
 -showcase-how-use-reentry-program-sustainability-toolkit-plan-your-program
 s
DTSTAMP:20260420T191525Z
END:VEVENT
END:VCALENDAR