BEGIN:VCALENDAR
VERSION:2.0
PRODID:-//Office of Justice Programs//NONSGML Event Calendar//EN
BEGIN:VEVENT
UID:5e72eeef-ef37-4a58-9c8a-54df3dca3824
DTSTART;TZID=UTC:20220421T160000
SEQUENCE:0
TRANSP:OPAQUE
DTEND;TZID=UTC:20220421T171500
LOCATION:https://www.ojp.gov/events/storytelling-reentry-programs-using-pow
 er-story-build-strong-support-your-program
SUMMARY:Storytelling for Reentry Programs: Using the Power of Story to Buil
 d Strong Support for Your Program
CLASS:PUBLIC
DESCRIPTION:Learn more about this event: https://www.ojp.gov/events/storyte
 lling-reentry-programs-using-power-story-build-strong-support-your-program
DTSTAMP:20260414T062635Z
END:VEVENT
END:VCALENDAR