BEGIN:VCALENDAR
VERSION:2.0
PRODID:-//Office of Justice Programs//NONSGML Event Calendar//EN
BEGIN:VEVENT
UID:005b2403-5fa1-40f2-a28e-85bec64d1040
DTSTART;TZID=UTC:20220425T190000
SEQUENCE:0
TRANSP:OPAQUE
DTEND;TZID=UTC:20220425T201500
LOCATION:https://www.ojp.gov/events/lessons-learned-reentry-coordinators-ov
 ercoming-challenges-field
SUMMARY:Lessons Learned from Reentry Coordinators: Overcoming Challenges in
  the Field
CLASS:PUBLIC
DESCRIPTION:Learn more about this event: https://www.ojp.gov/events/lessons
 -learned-reentry-coordinators-overcoming-challenges-field
DTSTAMP:20260420T191525Z
END:VEVENT
END:VCALENDAR