BEGIN:VCALENDAR
VERSION:2.0
PRODID:-//Office of Justice Programs//NONSGML Event Calendar//EN
BEGIN:VEVENT
UID:c0927eba-7ff7-4e6a-95e5-e2824a7fe4cc
DTSTART;TZID=UTC:20220330T180000
SEQUENCE:0
TRANSP:OPAQUE
DTEND;TZID=UTC:20220330T193000
LOCATION:https://www.ojp.gov/events/peer-recovery-support-services-program-
 evaluation
SUMMARY:Peer Recovery Support Services Program Evaluation
CLASS:PUBLIC
DESCRIPTION:Learn more about this event: https://www.ojp.gov/events/peer-re
 covery-support-services-program-evaluation
DTSTAMP:20260423T032101Z
END:VEVENT
END:VCALENDAR