BEGIN:VCALENDAR
VERSION:2.0
PRODID:-//Office of Justice Programs//NONSGML Event Calendar//EN
BEGIN:VEVENT
UID:989957a4-6b57-464f-8585-bbd1f7d49ebe
DTSTART;TZID=UTC:20220512T130000
SEQUENCE:0
TRANSP:OPAQUE
DTEND;TZID=UTC:20220512T220000
LOCATION:https://www.ojp.gov/events/amber-alert-activation-best-practices-1
 0
SUMMARY:AMBER Alert Activation Best Practices
CLASS:PUBLIC
DESCRIPTION:Learn more about this event: https://www.ojp.gov/events/amber-a
 lert-activation-best-practices-10
DTSTAMP:20260410T094310Z
END:VEVENT
END:VCALENDAR