BEGIN:VCALENDAR
VERSION:2.0
PRODID:-//Office of Justice Programs//NONSGML Event Calendar//EN
BEGIN:VEVENT
UID:fe77ac11-c74b-4763-a725-f70396a457eb
DTSTART;VALUE=DATE:20220517
SEQUENCE:0
TRANSP:OPAQUE
DTEND;VALUE=DATE:20220519
LOCATION:https://www.ojp.gov/events/investigative-strategies-child-abductio
 n-cases-3
SUMMARY:Investigative Strategies for Child Abduction Cases
CLASS:PUBLIC
DESCRIPTION:Learn more about this event: https://www.ojp.gov/events/investi
 gative-strategies-child-abduction-cases-3
X-MICROSOFT-CDO-ALLDAYEVENT:TRUE
DTSTAMP:20260410T102353Z
END:VEVENT
END:VCALENDAR