BEGIN:VCALENDAR
VERSION:2.0
PRODID:-//Office of Justice Programs//NONSGML Event Calendar//EN
BEGIN:VEVENT
UID:22e3431f-746e-4953-80dd-b70a8b80eedc
DTSTART;TZID=UTC:20220412T180000
SEQUENCE:0
TRANSP:OPAQUE
DTEND;TZID=UTC:20220412T193000
LOCATION:https://www.ojp.gov/events/ojjdp-fy22-strengthening-icac-technolog
 ical-investigative-capacity-solicitation-webinar
SUMMARY:OJJDP FY22 Strengthening ICAC Technological Investigative Capacity 
 Solicitation Webinar
CLASS:PUBLIC
DESCRIPTION:Learn more about this event: https://www.ojp.gov/events/ojjdp-f
 y22-strengthening-icac-technological-investigative-capacity-solicitation-w
 ebinar
DTSTAMP:20260409T123644Z
END:VEVENT
END:VCALENDAR