BEGIN:VCALENDAR
VERSION:2.0
PRODID:-//Office of Justice Programs//NONSGML Event Calendar//EN
BEGIN:VEVENT
UID:29854957-0ecd-4937-a2b1-d80ed2cec9e7
DTSTART;TZID=UTC:20220509T150000
SEQUENCE:0
TRANSP:OPAQUE
DTEND;TZID=UTC:20220509T163000
LOCATION:https://www.ojp.gov/events/ojjdp-fy-2022-family-treatment-court-pr
 ogram-webinar
SUMMARY:OJJDP FY 2022 Family Treatment Court Program Webinar
CLASS:PUBLIC
DESCRIPTION:Learn more about this event: https://www.ojp.gov/events/ojjdp-f
 y-2022-family-treatment-court-program-webinar
DTSTAMP:20260425T144004Z
END:VEVENT
END:VCALENDAR