BEGIN:VCALENDAR
VERSION:2.0
PRODID:-//Office of Justice Programs//NONSGML Event Calendar//EN
BEGIN:VEVENT
UID:59f115ee-5619-43b4-89ad-7ce48d56c848
DTSTART;TZID=UTC:20220516T170000
SEQUENCE:0
TRANSP:OPAQUE
DTEND;TZID=UTC:20220516T183000
LOCATION:https://www.ojp.gov/events/justgrants-virtual-qa-post-award-manage
 ment-32
SUMMARY:JustGrants Virtual Q&A: Post-Award Management
CLASS:PUBLIC
DESCRIPTION:Learn more about this event: https://www.ojp.gov/events/justgra
 nts-virtual-qa-post-award-management-32
DTSTAMP:20260424T222142Z
END:VEVENT
END:VCALENDAR