BEGIN:VCALENDAR
VERSION:2.0
PRODID:-//Office of Justice Programs//NONSGML Event Calendar//EN
BEGIN:VEVENT
UID:8dbe4e2a-d07a-4c81-9c42-6b50aeaa2a71
DTSTART;TZID=UTC:20220502T170000
SEQUENCE:0
TRANSP:OPAQUE
DTEND;TZID=UTC:20220502T183000
LOCATION:https://www.ojp.gov/events/mental-health-awareness-month-tijf-webi
 nar-moral-injury
SUMMARY:Mental Health Awareness Month TIJF Webinar: Moral Injury
CLASS:PUBLIC
DESCRIPTION:Learn more about this event: https://www.ojp.gov/events/mental-
 health-awareness-month-tijf-webinar-moral-injury
DTSTAMP:20260423T071234Z
END:VEVENT
END:VCALENDAR