BEGIN:VCALENDAR
VERSION:2.0
PRODID:-//Office of Justice Programs//NONSGML Event Calendar//EN
BEGIN:VEVENT
UID:3e47c422-91b9-4500-8648-dc0160b8d309
DTSTART;TZID=UTC:20220526T170000
SEQUENCE:0
TRANSP:OPAQUE
DTEND;TZID=UTC:20220526T183000
LOCATION:https://www.ojp.gov/events/mental-health-awareness-month-tijf-webi
 nar-hope-optimism-wonder-twins
SUMMARY:Mental Health Awareness Month TIJF Webinar Hope & Optimism: The Won
 der Twins
CLASS:PUBLIC
DESCRIPTION:Learn more about this event: https://www.ojp.gov/events/mental-
 health-awareness-month-tijf-webinar-hope-optimism-wonder-twins
DTSTAMP:20260423T141551Z
END:VEVENT
END:VCALENDAR