BEGIN:VCALENDAR
VERSION:2.0
PRODID:-//Office of Justice Programs//NONSGML Event Calendar//EN
BEGIN:VEVENT
UID:c1638e17-119d-424b-9156-02538fc40c8c
DTSTART;TZID=UTC:20220614T130000
SEQUENCE:0
TRANSP:OPAQUE
DTEND;TZID=UTC:20220614T220000
LOCATION:https://www.ojp.gov/events/initial-response-strategies-and-tactics
 -when-responding-missing-children-incidents-23
SUMMARY:Initial Response Strategies and Tactics When Responding to Missing 
 Children Incidents
CLASS:PUBLIC
DESCRIPTION:Learn more about this event: https://www.ojp.gov/events/initial
 -response-strategies-and-tactics-when-responding-missing-children-incident
 s-23
DTSTAMP:20260411T161439Z
END:VEVENT
END:VCALENDAR