BEGIN:VCALENDAR
VERSION:2.0
PRODID:-//Office of Justice Programs//NONSGML Event Calendar//EN
BEGIN:VEVENT
UID:3b02959e-0676-4a08-9ef5-f0f51a08ec82
DTSTART;TZID=UTC:20220623T180000
SEQUENCE:0
TRANSP:OPAQUE
DTEND;TZID=UTC:20220623T193000
LOCATION:https://www.ojp.gov/events/making-positive-change-during-americas-
 heroin-epidemic
SUMMARY:Making Positive Change During America’s Heroin Epidemic
CLASS:PUBLIC
DESCRIPTION:Learn more about this event: https://www.ojp.gov/events/making-
 positive-change-during-americas-heroin-epidemic
DTSTAMP:20260421T105140Z
END:VEVENT
END:VCALENDAR