BEGIN:VCALENDAR
VERSION:2.0
PRODID:-//Office of Justice Programs//NONSGML Event Calendar//EN
BEGIN:VEVENT
UID:ef00de06-76b5-4f2c-843d-480565827d52
DTSTART;VALUE=DATE:20220926
SEQUENCE:0
TRANSP:OPAQUE
DTEND;VALUE=DATE:20221001
LOCATION:https://www.ojp.gov/events/childfirstr-national-course
SUMMARY:ChildFirst® National Course
CLASS:PUBLIC
DESCRIPTION:Learn more about this event: https://www.ojp.gov/events/childfi
 rstr-national-course
X-MICROSOFT-CDO-ALLDAYEVENT:TRUE
DTSTAMP:20260410T080730Z
END:VEVENT
END:VCALENDAR