BEGIN:VCALENDAR
VERSION:2.0
PRODID:-//Office of Justice Programs//NONSGML Event Calendar//EN
BEGIN:VEVENT
UID:0b199a04-500d-485d-9f55-a2bd59de7885
DTSTART;TZID=UTC:20220622T170000
SEQUENCE:0
TRANSP:OPAQUE
DTEND;TZID=UTC:20220622T183000
LOCATION:https://www.ojp.gov/events/best-practices-implementing-peer-recove
 ry-support-services-hospital-settings
SUMMARY:Best Practices in Implementing Peer Recovery Support Services in Ho
 spital Settings
CLASS:PUBLIC
DESCRIPTION:Learn more about this event: https://www.ojp.gov/events/best-pr
 actices-implementing-peer-recovery-support-services-hospital-settings
DTSTAMP:20260411T151440Z
END:VEVENT
END:VCALENDAR