BEGIN:VCALENDAR
VERSION:2.0
PRODID:-//Office of Justice Programs//NONSGML Event Calendar//EN
BEGIN:VEVENT
UID:56604edc-c377-4cd8-a6fc-eed5fa629a78
DTSTART;TZID=UTC:20220719T130000
SEQUENCE:0
TRANSP:OPAQUE
DTEND;TZID=UTC:20220721T220000
LOCATION:https://www.ojp.gov/events/child-abduction-response-team-training-
 13
SUMMARY:Child Abduction Response Team Training
CLASS:PUBLIC
DESCRIPTION:Learn more about this event: https://www.ojp.gov/events/child-a
 bduction-response-team-training-13
DTSTAMP:20260410T071924Z
END:VEVENT
END:VCALENDAR