BEGIN:VCALENDAR
VERSION:2.0
PRODID:-//Office of Justice Programs//NONSGML Event Calendar//EN
BEGIN:VEVENT
UID:742184f1-04fc-487e-8988-98a35e586d22
DTSTART;TZID=UTC:20220926T130000
SEQUENCE:0
TRANSP:OPAQUE
DTEND;TZID=UTC:20220928T220000
LOCATION:https://www.ojp.gov/events/intermediate-cyber-investigations-virtu
 al-currency
SUMMARY:Intermediate Cyber Investigations: Virtual Currency
CLASS:PUBLIC
DESCRIPTION:Learn more about this event: https://www.ojp.gov/events/interme
 diate-cyber-investigations-virtual-currency
DTSTAMP:20260421T112815Z
END:VEVENT
END:VCALENDAR