BEGIN:VCALENDAR
VERSION:2.0
PRODID:-//Office of Justice Programs//NONSGML Event Calendar//EN
BEGIN:VEVENT
UID:cc1ff3a8-2716-4ac0-8dbd-27a25841b8b2
DTSTART;TZID=UTC:20220922T160000
SEQUENCE:0
TRANSP:OPAQUE
DTEND;TZID=UTC:20220922T170000
LOCATION:https://www.ojp.gov/events/handle-care
SUMMARY:Handle With Care
CLASS:PUBLIC
DESCRIPTION:Learn more about this event: https://www.ojp.gov/events/handle-
 care
DTSTAMP:20260411T171935Z
END:VEVENT
END:VCALENDAR