BEGIN:VCALENDAR
VERSION:2.0
PRODID:-//Office of Justice Programs//NONSGML Event Calendar//EN
BEGIN:VEVENT
UID:e816ecc0-c025-4975-947a-f0b4f46742d3
DTSTART;VALUE=DATE:20221213
SEQUENCE:0
TRANSP:OPAQUE
DTEND;VALUE=DATE:20221217
LOCATION:https://www.ojp.gov/events/conducting-unexplained-child-death-inve
 stigations-5
SUMMARY:Conducting Unexplained Child Death Investigations
CLASS:PUBLIC
DESCRIPTION:Learn more about this event: https://www.ojp.gov/events/conduct
 ing-unexplained-child-death-investigations-5
X-MICROSOFT-CDO-ALLDAYEVENT:TRUE
DTSTAMP:20260421T112800Z
END:VEVENT
END:VCALENDAR