BEGIN:VCALENDAR
VERSION:2.0
PRODID:-//Office of Justice Programs//NONSGML Event Calendar//EN
BEGIN:VEVENT
UID:166f94aa-5d0c-4cdf-a7d4-06185a37a0a0
DTSTART;TZID=UTC:20221019T190000
SEQUENCE:0
TRANSP:OPAQUE
DTEND;TZID=UTC:20221019T203000
LOCATION:https://www.ojp.gov/events/forensic-interviews-and-research-prosec
 utors-need-know
SUMMARY:Forensic Interviews and the Research Prosecutors Need to Know
CLASS:PUBLIC
DESCRIPTION:Learn more about this event: https://www.ojp.gov/events/forensi
 c-interviews-and-research-prosecutors-need-know
DTSTAMP:20260421T093328Z
END:VEVENT
END:VCALENDAR