BEGIN:VCALENDAR
VERSION:2.0
PRODID:-//Office of Justice Programs//NONSGML Event Calendar//EN
BEGIN:VEVENT
UID:ad5c6e77-6eac-4a97-a9a4-37e51d3952ab
DTSTART;TZID=UTC:20220913T170000
SEQUENCE:0
TRANSP:OPAQUE
DTEND;TZID=UTC:20220913T181500
LOCATION:https://www.ojp.gov/events/national-quality-mentoring-system-why-c
 ontinuous-quality-improvement-matters
SUMMARY:National Quality Mentoring System: Why Continuous Quality Improveme
 nt Matters
CLASS:PUBLIC
DESCRIPTION:Learn more about this event: https://www.ojp.gov/events/nationa
 l-quality-mentoring-system-why-continuous-quality-improvement-matters
DTSTAMP:20260422T014019Z
END:VEVENT
END:VCALENDAR