BEGIN:VCALENDAR
VERSION:2.0
PRODID:-//Office of Justice Programs//NONSGML Event Calendar//EN
BEGIN:VEVENT
UID:234fbecc-a373-4d03-ad50-27246c7f03f4
DTSTART;TZID=UTC:20220920T170000
SEQUENCE:0
TRANSP:OPAQUE
DTEND;TZID=UTC:20220920T180000
LOCATION:https://www.ojp.gov/events/mentoring-foster-youth-preparing-mentor
 ing-programs-support-youth-transitional-living
SUMMARY:Mentoring Foster Youth: Preparing Mentoring Programs to Support You
 th in Transitional Living Situations
CLASS:PUBLIC
DESCRIPTION:Learn more about this event: https://www.ojp.gov/events/mentori
 ng-foster-youth-preparing-mentoring-programs-support-youth-transitional-li
 ving
DTSTAMP:20260409T060152Z
END:VEVENT
END:VCALENDAR