BEGIN:VCALENDAR
VERSION:2.0
PRODID:-//Office of Justice Programs//NONSGML Event Calendar//EN
BEGIN:VEVENT
UID:e5ce0513-55c4-4f55-a3a3-c6c2850d7ffd
DTSTART;VALUE=DATE:20221026
SEQUENCE:0
TRANSP:OPAQUE
DTEND;VALUE=DATE:20221030
LOCATION:https://www.ojp.gov/events/association-treatment-sexual-abusers-an
 nual-research-and-treatment-conference-0
SUMMARY:Association for the Treatment of Sexual Abusers Annual Research and
  Treatment Conference
CLASS:PUBLIC
DESCRIPTION:Learn more about this event: https://www.ojp.gov/events/associa
 tion-treatment-sexual-abusers-annual-research-and-treatment-conference-0
X-MICROSOFT-CDO-ALLDAYEVENT:TRUE
DTSTAMP:20260412T223858Z
END:VEVENT
END:VCALENDAR