BEGIN:VCALENDAR
VERSION:2.0
PRODID:-//Office of Justice Programs//NONSGML Event Calendar//EN
BEGIN:VEVENT
UID:6bf61721-63e2-45e7-ab14-625a63590120
DTSTART;TZID=UTC:20221017T140000
SEQUENCE:0
TRANSP:OPAQUE
DTEND;TZID=UTC:20221021T210000
LOCATION:https://www.ojp.gov/events/forensic-interviewing-children-training
 -3
SUMMARY:Forensic Interviewing of Children Training
CLASS:PUBLIC
DESCRIPTION:Learn more about this event: https://www.ojp.gov/events/forensi
 c-interviewing-children-training-3
DTSTAMP:20260411T031455Z
END:VEVENT
END:VCALENDAR