BEGIN:VCALENDAR
VERSION:2.0
PRODID:-//Office of Justice Programs//NONSGML Event Calendar//EN
BEGIN:VEVENT
UID:bdbe7c52-cb56-4e4b-8411-f209074fdb35
DTSTART;TZID=UTC:20221213T150000
SEQUENCE:0
TRANSP:OPAQUE
DTEND;TZID=UTC:20221215T210000
LOCATION:https://www.ojp.gov/events/advanced-forensic-interviewing-training
 -0
SUMMARY:Advanced Forensic Interviewing Training
CLASS:PUBLIC
DESCRIPTION:Learn more about this event: https://www.ojp.gov/events/advance
 d-forensic-interviewing-training-0
DTSTAMP:20260410T074843Z
END:VEVENT
END:VCALENDAR