BEGIN:VCALENDAR
VERSION:2.0
PRODID:-//Office of Justice Programs//NONSGML Event Calendar//EN
BEGIN:VEVENT
UID:f711dff9-9d11-46b0-bd37-cc1411a0b945
DTSTART;TZID=UTC:20220921T133000
SEQUENCE:0
TRANSP:OPAQUE
DTEND;TZID=UTC:20220921T220000
LOCATION:https://www.ojp.gov/events/shift-wellness-psycho-educational-progr
 am-35
SUMMARY:SHIFT Wellness Psycho Educational Program
CLASS:PUBLIC
DESCRIPTION:Learn more about this event: https://www.ojp.gov/events/shift-w
 ellness-psycho-educational-program-35
DTSTAMP:20260423T141542Z
END:VEVENT
END:VCALENDAR