BEGIN:VCALENDAR
VERSION:2.0
PRODID:-//Office of Justice Programs//NONSGML Event Calendar//EN
BEGIN:VEVENT
UID:c7634e17-eff8-4a3a-860d-332e0dad287c
DTSTART;TZID=UTC:20221116T123000
SEQUENCE:0
TRANSP:OPAQUE
DTEND;TZID=UTC:20221116T210000
LOCATION:https://www.ojp.gov/events/shift-wellness-psycho-educational-progr
 am-37
SUMMARY:SHIFT Wellness Psycho Educational Program
CLASS:PUBLIC
DESCRIPTION:Learn more about this event: https://www.ojp.gov/events/shift-w
 ellness-psycho-educational-program-37
DTSTAMP:20260423T141359Z
END:VEVENT
END:VCALENDAR