BEGIN:VCALENDAR
VERSION:2.0
PRODID:-//Office of Justice Programs//NONSGML Event Calendar//EN
BEGIN:VEVENT
UID:9dab503b-6483-48e3-9800-5ba5755b7320
DTSTART;TZID=UTC:20221130T133000
SEQUENCE:0
TRANSP:OPAQUE
DTEND;TZID=UTC:20221130T220000
LOCATION:https://www.ojp.gov/events/shift-wellness-psycho-educational-progr
 am-38
SUMMARY:SHIFT Wellness Psycho Educational Program
CLASS:PUBLIC
DESCRIPTION:Learn more about this event: https://www.ojp.gov/events/shift-w
 ellness-psycho-educational-program-38
DTSTAMP:20260423T154711Z
END:VEVENT
END:VCALENDAR