BEGIN:VCALENDAR
VERSION:2.0
PRODID:-//Office of Justice Programs//NONSGML Event Calendar//EN
BEGIN:VEVENT
UID:eb27259d-b99b-4595-8d68-420f48846a80
DTSTART;TZID=UTC:20221017T170000
SEQUENCE:0
TRANSP:OPAQUE
DTEND;TZID=UTC:20221017T183000
LOCATION:https://www.ojp.gov/events/justgrants-virtual-qa-post-award-manage
 ment-54
SUMMARY:JustGrants Virtual Q&A: Post-Award Management
CLASS:PUBLIC
DESCRIPTION:Learn more about this event: https://www.ojp.gov/events/justgra
 nts-virtual-qa-post-award-management-54
DTSTAMP:20260423T223122Z
END:VEVENT
END:VCALENDAR