BEGIN:VCALENDAR
VERSION:2.0
PRODID:-//Office of Justice Programs//NONSGML Event Calendar//EN
BEGIN:VEVENT
UID:667ec916-0905-4d0c-b98f-433aa5252182
DTSTART;TZID=UTC:20221011T180000
SEQUENCE:0
TRANSP:OPAQUE
DTEND;TZID=UTC:20221011T190000
LOCATION:https://www.ojp.gov/events/justgrants-virtual-qa-entity-management
 -51
SUMMARY:JustGrants Virtual Q&A: Entity Management
CLASS:PUBLIC
DESCRIPTION:Learn more about this event: https://www.ojp.gov/events/justgra
 nts-virtual-qa-entity-management-51
DTSTAMP:20260425T093234Z
END:VEVENT
END:VCALENDAR