BEGIN:VCALENDAR
VERSION:2.0
PRODID:-//Office of Justice Programs//NONSGML Event Calendar//EN
BEGIN:VEVENT
UID:5eb9d9d6-40ae-4830-8b79-46ceebaf9039
DTSTART;TZID=UTC:20221018T180000
SEQUENCE:0
TRANSP:OPAQUE
DTEND;TZID=UTC:20221018T193000
LOCATION:https://www.ojp.gov/events/shielding-your-well-being-moral-injury
SUMMARY:Shielding Your Well-Being: Moral Injury
CLASS:PUBLIC
DESCRIPTION:Learn more about this event: https://www.ojp.gov/events/shieldi
 ng-your-well-being-moral-injury
DTSTAMP:20260423T124256Z
END:VEVENT
END:VCALENDAR