BEGIN:VCALENDAR
VERSION:2.0
PRODID:-//Office of Justice Programs//NONSGML Event Calendar//EN
BEGIN:VEVENT
UID:196ce412-9782-489f-92a3-88086b99fb8b
DTSTART;TZID=UTC:20221116T200000
SEQUENCE:0
TRANSP:OPAQUE
DTEND;TZID=UTC:20221116T213000
LOCATION:https://www.ojp.gov/events/considering-grooming-and-manipulation-i
 nvestigative-and-judicial-process
SUMMARY:Considering Grooming and Manipulation in the Investigative and Judi
 cial Process
CLASS:PUBLIC
DESCRIPTION:Learn more about this event: https://www.ojp.gov/events/conside
 ring-grooming-and-manipulation-investigative-and-judicial-process
DTSTAMP:20260411T031433Z
END:VEVENT
END:VCALENDAR