BEGIN:VCALENDAR
VERSION:2.0
PRODID:-//Office of Justice Programs//NONSGML Event Calendar//EN
BEGIN:VEVENT
UID:4e12a766-586e-4250-8971-1442d457733a
DTSTART;TZID=UTC:20221201T133000
SEQUENCE:0
TRANSP:OPAQUE
DTEND;TZID=UTC:20221201T220000
LOCATION:https://www.ojp.gov/events/shift-wellness-psycho-educational-progr
 am-41
SUMMARY:SHIFT Wellness Psycho Educational Program
CLASS:PUBLIC
DESCRIPTION:Learn more about this event: https://www.ojp.gov/events/shift-w
 ellness-psycho-educational-program-41
DTSTAMP:20260423T141453Z
END:VEVENT
END:VCALENDAR