BEGIN:VCALENDAR
VERSION:2.0
PRODID:-//Office of Justice Programs//NONSGML Event Calendar//EN
BEGIN:VEVENT
UID:20bdb0c2-a350-4099-be81-0b8ed8843ae1
DTSTART;TZID=UTC:20230131T173000
SEQUENCE:0
TRANSP:OPAQUE
DTEND;TZID=UTC:20230131T190000
LOCATION:https://www.ojp.gov/events/jail-bail-sale-trafficking-and-criminal
 -justice-system
SUMMARY:From Jail\, to Bail\, to Sale: Trafficking and the Criminal Justice
  System
CLASS:PUBLIC
DESCRIPTION:Learn more about this event: https://www.ojp.gov/events/jail-ba
 il-sale-trafficking-and-criminal-justice-system
DTSTAMP:20260412T015606Z
END:VEVENT
END:VCALENDAR