BEGIN:VCALENDAR
VERSION:2.0
PRODID:-//Office of Justice Programs//NONSGML Event Calendar//EN
BEGIN:VEVENT
UID:b75e8c96-cf87-431a-96fe-529a51e87c61
DTSTART;TZID=UTC:20230208T123000
SEQUENCE:0
TRANSP:OPAQUE
DTEND;TZID=UTC:20230208T210000
LOCATION:https://www.ojp.gov/events/shift-wellness-psycho-educational-progr
 am-43
SUMMARY:SHIFT Wellness Psycho Educational Program
CLASS:PUBLIC
DESCRIPTION:Learn more about this event: https://www.ojp.gov/events/shift-w
 ellness-psycho-educational-program-43
DTSTAMP:20260409T014735Z
END:VEVENT
END:VCALENDAR