BEGIN:VCALENDAR
VERSION:2.0
PRODID:-//Office of Justice Programs//NONSGML Event Calendar//EN
BEGIN:VEVENT
UID:81b93de0-68e8-47d3-813b-b671da954998
DTSTART;TZID=UTC:20230302T190000
SEQUENCE:0
TRANSP:OPAQUE
DTEND;TZID=UTC:20230302T203000
LOCATION:https://www.ojp.gov/events/adult-and-veterans-treatment-court-soli
 citations-applying-funding
SUMMARY:Adult and Veterans Treatment Court Solicitations: Applying for Fund
 ing
CLASS:PUBLIC
DESCRIPTION:Learn more about this event: https://www.ojp.gov/events/adult-a
 nd-veterans-treatment-court-solicitations-applying-funding
DTSTAMP:20260410T121833Z
END:VEVENT
END:VCALENDAR