BEGIN:VCALENDAR
VERSION:2.0
PRODID:-//Office of Justice Programs//NONSGML Event Calendar//EN
BEGIN:VEVENT
UID:cadafb4e-c454-4b4c-9532-b195d05bef99
DTSTART;TZID=UTC:20230407T180000
SEQUENCE:0
TRANSP:OPAQUE
DTEND;TZID=UTC:20230407T193000
LOCATION:https://www.ojp.gov/events/ojjdp-fy-2023-supporting-vulnerable-and
 -risk-youth-transitioning-out-foster-care
SUMMARY:OJJDP FY 2023 Supporting Vulnerable and At-Risk Youth Transitioning
  Out of Foster Care Solicitation Webinar
CLASS:PUBLIC
DESCRIPTION:Learn more about this event: https://www.ojp.gov/events/ojjdp-f
 y-2023-supporting-vulnerable-and-risk-youth-transitioning-out-foster-care
DTSTAMP:20260426T034027Z
END:VEVENT
END:VCALENDAR