BEGIN:VCALENDAR
VERSION:2.0
PRODID:-//Office of Justice Programs//NONSGML Event Calendar//EN
BEGIN:VEVENT
UID:dc73a5fe-b9c2-4563-8983-bc0aaeb1a52a
DTSTART;TZID=UTC:20230309T120000
SEQUENCE:0
TRANSP:OPAQUE
DTEND;TZID=UTC:20230309T210000
LOCATION:https://www.ojp.gov/events/shift-wellness-psycho-educational-progr
 am-44
SUMMARY:SHIFT Wellness Psycho Educational Program
CLASS:PUBLIC
DESCRIPTION:Learn more about this event: https://www.ojp.gov/events/shift-w
 ellness-psycho-educational-program-44
DTSTAMP:20260423T154712Z
END:VEVENT
END:VCALENDAR