BEGIN:VCALENDAR
VERSION:2.0
PRODID:-//Office of Justice Programs//NONSGML Event Calendar//EN
BEGIN:VEVENT
UID:af3a12e9-56b5-4d80-801f-f6d2b5854235
DTSTART;TZID=UTC:20230413T110000
SEQUENCE:0
TRANSP:OPAQUE
DTEND;TZID=UTC:20230413T200000
LOCATION:https://www.ojp.gov/events/shift-wellness-psycho-educational-progr
 am-45
SUMMARY:SHIFT Wellness Psycho Educational Program
CLASS:PUBLIC
DESCRIPTION:Learn more about this event: https://www.ojp.gov/events/shift-w
 ellness-psycho-educational-program-45
DTSTAMP:20260423T141542Z
END:VEVENT
END:VCALENDAR