BEGIN:VCALENDAR
VERSION:2.0
PRODID:-//Office of Justice Programs//NONSGML Event Calendar//EN
BEGIN:VEVENT
UID:eeae5a43-619a-4ce7-9885-3aa8faf16b03
DTSTART;TZID=UTC:20230405T170000
SEQUENCE:0
TRANSP:OPAQUE
DTEND;TZID=UTC:20230405T183000
LOCATION:https://www.ojp.gov/events/housing-finance-basics-criminal-justice
 -partners
SUMMARY:Housing Finance Basics for Criminal Justice Partners
CLASS:PUBLIC
DESCRIPTION:Learn more about this event: https://www.ojp.gov/events/housing
 -finance-basics-criminal-justice-partners
DTSTAMP:20260413T022038Z
END:VEVENT
END:VCALENDAR