BEGIN:VCALENDAR
VERSION:2.0
PRODID:-//Office of Justice Programs//NONSGML Event Calendar//EN
BEGIN:VEVENT
UID:35f90aeb-6d9d-4d16-a3b6-6b7f6f5afe51
DTSTART;TZID=UTC:20231016T130000
SEQUENCE:0
TRANSP:OPAQUE
DTEND;TZID=UTC:20231017T220000
LOCATION:https://www.ojp.gov/events/keeping-faith
SUMMARY:Keeping Faith
CLASS:PUBLIC
DESCRIPTION:Learn more about this event: https://www.ojp.gov/events/keeping
 -faith
DTSTAMP:20260411T011307Z
END:VEVENT
END:VCALENDAR