BEGIN:VCALENDAR
VERSION:2.0
PRODID:-//Office of Justice Programs//NONSGML Event Calendar//EN
BEGIN:VEVENT
UID:f0d89ce7-87f3-448c-874c-7c9186725aff
DTSTART;VALUE=DATE:20230607
SEQUENCE:0
TRANSP:OPAQUE
DTEND;VALUE=DATE:20230610
LOCATION:https://www.ojp.gov/events/2023-zero-abuse-project-summit
SUMMARY:2023 Zero Abuse Project Summit
CLASS:PUBLIC
DESCRIPTION:Learn more about this event: https://www.ojp.gov/events/2023-ze
 ro-abuse-project-summit
X-MICROSOFT-CDO-ALLDAYEVENT:TRUE
DTSTAMP:20260412T014834Z
END:VEVENT
END:VCALENDAR