BEGIN:VCALENDAR
VERSION:2.0
PRODID:-//Office of Justice Programs//NONSGML Event Calendar//EN
BEGIN:VEVENT
UID:617396d9-61b6-4b04-898f-d7cd3b14f15e
DTSTART;TZID=UTC:20230412T183000
SEQUENCE:0
TRANSP:OPAQUE
DTEND;TZID=UTC:20230412T193000
LOCATION:https://www.ojp.gov/events/community-courts-initiative-fy23-solici
 tation
SUMMARY:Community Courts Initiative - FY23 Solicitation
CLASS:PUBLIC
DESCRIPTION:Learn more about this event: https://www.ojp.gov/events/communi
 ty-courts-initiative-fy23-solicitation
DTSTAMP:20260424T021954Z
END:VEVENT
END:VCALENDAR