BEGIN:VCALENDAR
VERSION:2.0
PRODID:-//Office of Justice Programs//NONSGML Event Calendar//EN
BEGIN:VEVENT
UID:537166ad-abb9-4864-b02a-acad9d0dbc87
DTSTART;VALUE=DATE:20230731
SEQUENCE:0
TRANSP:OPAQUE
DTEND;VALUE=DATE:20230803
LOCATION:https://www.ojp.gov/events/small-rural-law-enforcement-executives-
 association-annual-conference
SUMMARY:Small & Rural Law Enforcement Executives Association Annual Confere
 nce
CLASS:PUBLIC
DESCRIPTION:Learn more about this event: https://www.ojp.gov/events/small-r
 ural-law-enforcement-executives-association-annual-conference
X-MICROSOFT-CDO-ALLDAYEVENT:TRUE
DTSTAMP:20260424T135356Z
END:VEVENT
END:VCALENDAR