BEGIN:VCALENDAR
VERSION:2.0
PRODID:-//Office of Justice Programs//NONSGML Event Calendar//EN
BEGIN:VEVENT
UID:5cff7564-5ffa-4f62-9679-466f51ad4977
DTSTART;TZID=UTC:20230606T180000
SEQUENCE:0
TRANSP:OPAQUE
DTEND;TZID=UTC:20230606T193000
LOCATION:https://www.ojp.gov/events/wellness-strategies-effective-leaders
SUMMARY:Wellness Strategies for Effective Leaders
CLASS:PUBLIC
DESCRIPTION:Learn more about this event: https://www.ojp.gov/events/wellnes
 s-strategies-effective-leaders
DTSTAMP:20260423T141543Z
END:VEVENT
END:VCALENDAR