BEGIN:VCALENDAR
VERSION:2.0
PRODID:-//Office of Justice Programs//NONSGML Event Calendar//EN
BEGIN:VEVENT
UID:8d113870-935f-41aa-b525-ad5b51804872
DTSTART;TZID=UTC:20230508T183000
SEQUENCE:0
TRANSP:OPAQUE
DTEND;TZID=UTC:20230508T200000
LOCATION:https://www.ojp.gov/events/serving-youth-and-families-rural-commun
 ities-learning-two-state-juvenile-justice-agencies-0
SUMMARY:Serving Youth and Families in Rural Communities: Learning from Two 
 State Juvenile Justice Agencies
CLASS:PUBLIC
DESCRIPTION:Learn more about this event: https://www.ojp.gov/events/serving
 -youth-and-families-rural-communities-learning-two-state-juvenile-justice-
 agencies-0
DTSTAMP:20260411T010627Z
END:VEVENT
END:VCALENDAR