BEGIN:VCALENDAR
VERSION:2.0
PRODID:-//Office of Justice Programs//NONSGML Event Calendar//EN
BEGIN:VEVENT
UID:3cfce3d3-2871-46d2-b3c6-da3c95770826
DTSTART;TZID=UTC:20230531T180000
SEQUENCE:0
TRANSP:OPAQUE
DTEND;TZID=UTC:20230531T191500
LOCATION:https://www.ojp.gov/events/clergy-response-domestic-violence-survi
 vors-how-engage-and-train-faith-leaders-expert-qa
SUMMARY:Clergy Response to Domestic Violence Survivors: How To Engage and T
 rain Faith Leaders Expert Q&A
CLASS:PUBLIC
DESCRIPTION:Learn more about this event: https://www.ojp.gov/events/clergy-
 response-domestic-violence-survivors-how-engage-and-train-faith-leaders-ex
 pert-qa
DTSTAMP:20260411T014424Z
END:VEVENT
END:VCALENDAR