BEGIN:VCALENDAR
VERSION:2.0
PRODID:-//Office of Justice Programs//NONSGML Event Calendar//EN
BEGIN:VEVENT
UID:c384a25a-d1f4-40e6-9846-03b033f82d11
DTSTART;TZID=UTC:20230511T150000
SEQUENCE:0
TRANSP:OPAQUE
DTEND;TZID=UTC:20230511T160000
LOCATION:https://www.ojp.gov/events/fy-2023-community-courts-initiative-qa-
 session
SUMMARY:FY 2023 Community Courts Initiative Q&A Session
CLASS:PUBLIC
DESCRIPTION:Learn more about this event: https://www.ojp.gov/events/fy-2023
 -community-courts-initiative-qa-session
DTSTAMP:20260423T184611Z
END:VEVENT
END:VCALENDAR